BEGIN:VCALENDAR
VERSION:2.0
PRODID:-//MGM Executive Speaker Series - ECPv6.6.1//NONSGML v1.0//EN
CALSCALE:GREGORIAN
METHOD:PUBLISH
X-ORIGINAL-URL:https://mgmexecutivespeakerseries.com
X-WR-CALDESC:Events for MGM Executive Speaker Series
REFRESH-INTERVAL;VALUE=DURATION:PT1H
X-Robots-Tag:noindex
X-PUBLISHED-TTL:PT1H
BEGIN:VTIMEZONE
TZID:UTC
BEGIN:STANDARD
TZOFFSETFROM:+0000
TZOFFSETTO:+0000
TZNAME:UTC
DTSTART:20240101T000000
END:STANDARD
END:VTIMEZONE
BEGIN:VEVENT
DTSTART;TZID=UTC:20240826T170000
DTEND;TZID=UTC:20240826T190000
DTSTAMP:20260421T001733
CREATED:20240728T202617Z
LAST-MODIFIED:20240728T212235Z
UID:2029-1724691600-1724698800@mgmexecutivespeakerseries.com
SUMMARY:"This is Montgomery" Reception
DESCRIPTION:As we kickoff the nation’s largest defense IT conference\, the Department of the Air Force Information Technology and Cyberpower Conference\, we are reminded of Montgomery’s deep\, rich history in defense and innovation. This annual conference brings together over 6\,000 government and industry IT professionals\, showcasing our city as a hub of technological advancement and strategic importance. \nMontgomery’s legacy of innovation dates back to the early 20th century with the Wright Brothers’ pioneering flights\, a tradition that continues today with the F-35A Red Tails fighter jets. Our city is also home to the Montgomery Internet Exchange and the BESPIN Mobile Application Center of Excellence\, modern symbols of our commitment to technological progress. \nJoin us for the This Is Montgomery Reception taking place on Monday\, August 26th\, from 5-7 PM at Montgomery Whitewater. \n*You must use the email address associated with your invitation to RSVP. Invites are non-transferable.
URL:https://mgmexecutivespeakerseries.com/event/this-is-montgomery-reception/
LOCATION:Montgomery Whitewater\, 1100 Maxwell Blvd\, Montgomery\, 36104\, United States
ATTACH;FMTTYPE=image/png:https://mgmexecutivespeakerseries.com/wp-content/uploads/2024/07/ESS-TIM-Series.png
END:VEVENT
END:VCALENDAR